BEGIN:VCALENDAR
VERSION:2.0
PRODID:-// - ECPv6.15.20//NONSGML v1.0//EN
CALSCALE:GREGORIAN
METHOD:PUBLISH
X-ORIGINAL-URL:https://betriebsrat-lebensgross.at
X-WR-CALDESC:Veranstaltungen für 
REFRESH-INTERVAL;VALUE=DURATION:PT1H
X-Robots-Tag:noindex
X-PUBLISHED-TTL:PT1H
BEGIN:VTIMEZONE
TZID:Europe/Berlin
BEGIN:DAYLIGHT
TZOFFSETFROM:+0100
TZOFFSETTO:+0200
TZNAME:CEST
DTSTART:20240331T010000
END:DAYLIGHT
BEGIN:STANDARD
TZOFFSETFROM:+0200
TZOFFSETTO:+0100
TZNAME:CET
DTSTART:20241027T010000
END:STANDARD
BEGIN:DAYLIGHT
TZOFFSETFROM:+0100
TZOFFSETTO:+0200
TZNAME:CEST
DTSTART:20250330T010000
END:DAYLIGHT
BEGIN:STANDARD
TZOFFSETFROM:+0200
TZOFFSETTO:+0100
TZNAME:CET
DTSTART:20251026T010000
END:STANDARD
BEGIN:DAYLIGHT
TZOFFSETFROM:+0100
TZOFFSETTO:+0200
TZNAME:CEST
DTSTART:20260329T010000
END:DAYLIGHT
BEGIN:STANDARD
TZOFFSETFROM:+0200
TZOFFSETTO:+0100
TZNAME:CET
DTSTART:20261025T010000
END:STANDARD
END:VTIMEZONE
BEGIN:VEVENT
DTSTART;TZID=Europe/Berlin:20250508T173000
DTEND;TZID=Europe/Berlin:20250508T210000
DTSTAMP:20260424T193149
CREATED:20250114T120327Z
LAST-MODIFIED:20250226T120809Z
UID:10151-1746725400-1746738000@betriebsrat-lebensgross.at
SUMMARY:Raiffeisen Businesslauf
DESCRIPTION:Wir wollen wieder etwas bewegen\, nämlich uns! Darum möchte LebensGroß und Betriebsrat wieder gemeinsam mit den Kolle:ginnen am Raifeisen Businesslauf teilnehmen\, wo eine 5 km lange Strecke durch die Grazer Innenstadt zu bewältigen sein wird. \n\nDonnerstag\, 08.05.2025\nStart: 18:20\nKarmeliterplatz\, Grazer Innenstadt\n\nAnmeldeschluss ist der 25.04.2024. Für eine Anmeldung schicke uns deinen Namen und dein Geburtsdatum per Mail an office@betriebsrat-lg.at. Falls du ein Laufleiberl brauchst\, sag uns bitte deine Größe. Kosten und Organisation werden von uns und Geschäftsführung übernommen. Wir werden eine Stunde (ab 17:30) vor Startbeginn vor Ort sein\, um die Startnummern an euch auszuteilen.
URL:https://betriebsrat-lebensgross.at/event/raiffeisen-businesslauf/
ATTACH;FMTTYPE=image/png:https://betriebsrat-lebensgross.at/wp-content/uploads/2025/01/noun-victory-1370961-e1736855985813.png
END:VEVENT
END:VCALENDAR