BEGIN:VCALENDAR
VERSION:2.0
PRODID:-// - ECPv6.15.20//NONSGML v1.0//EN
CALSCALE:GREGORIAN
METHOD:PUBLISH
X-ORIGINAL-URL:https://betriebsrat-lebensgross.at
X-WR-CALDESC:Veranstaltungen für 
REFRESH-INTERVAL;VALUE=DURATION:PT1H
X-Robots-Tag:noindex
X-PUBLISHED-TTL:PT1H
BEGIN:VTIMEZONE
TZID:Europe/Berlin
BEGIN:DAYLIGHT
TZOFFSETFROM:+0100
TZOFFSETTO:+0200
TZNAME:CEST
DTSTART:20240331T010000
END:DAYLIGHT
BEGIN:STANDARD
TZOFFSETFROM:+0200
TZOFFSETTO:+0100
TZNAME:CET
DTSTART:20241027T010000
END:STANDARD
BEGIN:DAYLIGHT
TZOFFSETFROM:+0100
TZOFFSETTO:+0200
TZNAME:CEST
DTSTART:20250330T010000
END:DAYLIGHT
BEGIN:STANDARD
TZOFFSETFROM:+0200
TZOFFSETTO:+0100
TZNAME:CET
DTSTART:20251026T010000
END:STANDARD
BEGIN:DAYLIGHT
TZOFFSETFROM:+0100
TZOFFSETTO:+0200
TZNAME:CEST
DTSTART:20260329T010000
END:DAYLIGHT
BEGIN:STANDARD
TZOFFSETFROM:+0200
TZOFFSETTO:+0100
TZNAME:CET
DTSTART:20261025T010000
END:STANDARD
END:VTIMEZONE
BEGIN:VEVENT
DTSTART;TZID=Europe/Berlin:20250615T080000
DTEND;TZID=Europe/Berlin:20250615T170000
DTSTAMP:20260424T181831
CREATED:20250522T122319Z
LAST-MODIFIED:20250522T122333Z
UID:10495-1749974400-1750006800@betriebsrat-lebensgross.at
SUMMARY:AK - Familienradwandertag
DESCRIPTION:Auch 2025 wird es den beliebten Radwandertag wieder geben. Am 15. Juni startet die Tour wieder von Graz- Puntigam nach Leibnitz. Ein toller Tag wartet auf alle Sportler:innen. Die Kosten für die Teilnahme der Kolleg:innen von LebensGroß wird vom Betriebsrat übernommen. \nInfos zur Veranstaltung: \nFamilienradwandertag von Graz nach Leibnitz 2026
URL:https://betriebsrat-lebensgross.at/event/ak-familienradwandertag/
ATTACH;FMTTYPE=image/png:https://betriebsrat-lebensgross.at/wp-content/uploads/2024/04/noun-bicycle-6786022-e1739962539221.png
END:VEVENT
END:VCALENDAR