BEGIN:VCALENDAR
VERSION:2.0
PRODID:-// - ECPv6.15.20//NONSGML v1.0//EN
CALSCALE:GREGORIAN
METHOD:PUBLISH
X-ORIGINAL-URL:https://betriebsrat-lebensgross.at
X-WR-CALDESC:Veranstaltungen für 
REFRESH-INTERVAL;VALUE=DURATION:PT1H
X-Robots-Tag:noindex
X-PUBLISHED-TTL:PT1H
BEGIN:VTIMEZONE
TZID:Europe/Berlin
BEGIN:DAYLIGHT
TZOFFSETFROM:+0100
TZOFFSETTO:+0200
TZNAME:CEST
DTSTART:20240331T010000
END:DAYLIGHT
BEGIN:STANDARD
TZOFFSETFROM:+0200
TZOFFSETTO:+0100
TZNAME:CET
DTSTART:20241027T010000
END:STANDARD
BEGIN:DAYLIGHT
TZOFFSETFROM:+0100
TZOFFSETTO:+0200
TZNAME:CEST
DTSTART:20250330T010000
END:DAYLIGHT
BEGIN:STANDARD
TZOFFSETFROM:+0200
TZOFFSETTO:+0100
TZNAME:CET
DTSTART:20251026T010000
END:STANDARD
BEGIN:DAYLIGHT
TZOFFSETFROM:+0100
TZOFFSETTO:+0200
TZNAME:CEST
DTSTART:20260329T010000
END:DAYLIGHT
BEGIN:STANDARD
TZOFFSETFROM:+0200
TZOFFSETTO:+0100
TZNAME:CET
DTSTART:20261025T010000
END:STANDARD
END:VTIMEZONE
BEGIN:VEVENT
DTSTART;VALUE=DATE:20250625
DTEND;VALUE=DATE:20250626
DTSTAMP:20260424T182502
CREATED:20250225T123710Z
LAST-MODIFIED:20250605T103158Z
UID:10289-1750809600-1750895999@betriebsrat-lebensgross.at
SUMMARY:Tag am Berg
DESCRIPTION:Fahr mit uns und den Kolleg:innen zum Alten Almhaus über den Dächern der Lipizzanerheimat Maria Lankowitz. Egal\, ob sportlich mit einer Wanderung auf den Rappold\, aufs Gaberl\, zum Salzstiegl oder einfach nur auf der Almwiese liegen und den Tag am Berg verbringen…ein gemeinsames Essen als Stärkung im Alten Almhaus hat sich jeder verdient 😉 \nhttps://www.altesalmhaus.at/ \nAnmeldung unter office@betriebsrat-lg.at \nFahrplan und Einstiegsstellen:\n\n07:00 Uhr – Murpark Graz (FlixBus-Haltestelle)\n07:20 Uhr – Bahnhof Lieboch\n07:35 Uhr – P&R Stainz\n08:05 Uhr – Vorum Voitsberg\n09:00 Uhr – Ankunft „Altes Almhaus“\n13:00 Uhr – Mittagessen\n16:00 Uhr – Rückreise (17:00 Uhr – Ankunft Murpark)
URL:https://betriebsrat-lebensgross.at/event/tag-am-berg/
ATTACH;FMTTYPE=image/png:https://betriebsrat-lebensgross.at/wp-content/uploads/2025/02/Mountains-Eksplorers-e1740486109827.png
END:VEVENT
END:VCALENDAR