BEGIN:VCALENDAR
VERSION:2.0
PRODID:-// - ECPv6.15.20//NONSGML v1.0//EN
CALSCALE:GREGORIAN
METHOD:PUBLISH
X-ORIGINAL-URL:https://betriebsrat-lebensgross.at
X-WR-CALDESC:Veranstaltungen für 
REFRESH-INTERVAL;VALUE=DURATION:PT1H
X-Robots-Tag:noindex
X-PUBLISHED-TTL:PT1H
BEGIN:VTIMEZONE
TZID:Europe/Berlin
BEGIN:DAYLIGHT
TZOFFSETFROM:+0100
TZOFFSETTO:+0200
TZNAME:CEST
DTSTART:20240331T010000
END:DAYLIGHT
BEGIN:STANDARD
TZOFFSETFROM:+0200
TZOFFSETTO:+0100
TZNAME:CET
DTSTART:20241027T010000
END:STANDARD
BEGIN:DAYLIGHT
TZOFFSETFROM:+0100
TZOFFSETTO:+0200
TZNAME:CEST
DTSTART:20250330T010000
END:DAYLIGHT
BEGIN:STANDARD
TZOFFSETFROM:+0200
TZOFFSETTO:+0100
TZNAME:CET
DTSTART:20251026T010000
END:STANDARD
BEGIN:DAYLIGHT
TZOFFSETFROM:+0100
TZOFFSETTO:+0200
TZNAME:CEST
DTSTART:20260329T010000
END:DAYLIGHT
BEGIN:STANDARD
TZOFFSETFROM:+0200
TZOFFSETTO:+0100
TZNAME:CET
DTSTART:20261025T010000
END:STANDARD
END:VTIMEZONE
BEGIN:VEVENT
DTSTART;TZID=Europe/Berlin:20250920T140000
DTEND;TZID=Europe/Berlin:20250920T230000
DTSTAMP:20260424T143621
CREATED:20250716T090544Z
LAST-MODIFIED:20250716T092231Z
UID:10550-1758376800-1758409200@betriebsrat-lebensgross.at
SUMMARY:Herbstfest
DESCRIPTION:LebensGroß läd wieder alle Kolleg:innen und Angehörige zum jährlichen Herbstfest in die Seifenfabrik in Graz ein. Falls du unser Shuttle-Service nutzen möchtest\, gib uns bei deiner Anmeldung gerne die Einstiegstelle bekannt. \nDie An- und Abfahrtszeiten für den Shuttle-Service für das LebensGroß Herbstfest. Melde dich an\, steig ein und hab Spaß \nBus 1: Karlschacht – Seifenfabrik Graz \nEs stehen dir 2 Fahrten zur Auswahl\, die individuell je nach Wunsch zur Hin- und Rückfahrt genutzt werden können. \n\n\n\n\nFahrt 1\nFahrt 2\nHaltestelle\n\n\n13:30\n16:00\nKarlschacht\n\n\n13:33\n16:03\nAbholmarkt Rosental\n\n\n13:35\n16:05\nRosental Schule\n\n\n13:37\n16:07\nLKH Voitsberg\n\n\n13:38\n16:08\nHauptplatz Voitsberg\n\n\n13:40\n16:10\nBilla Plus Voitsberg\n\n\n13:42\n16:12\nKrems Kreisverkehr\n\n\n13:45\n16:15\nGaisfeld\n\n\n13:48\n16:18\nKrottendorf\n\n\n13:50\n16:20\nSt. Johann ehem. Raika\n\n\n13:53\n16:23\nGasthaus Reisinger\n\n\n14:00\n16:30\nXXXLutz Lieboch Bushaltestelle Hofer\n\n\n14:30\n17:00\nAnkunft Seifenfabrik\n\n\n\n\n19:00\n23:00\nRetourfahrt Karlschacht\n\n\n\n\nBus 2: Deutschlandsberg – Seifenfabrik \nEs stehen dir 2 Fahrten zur Auswahl\, die individuell je nach Wunsch zur Hin- und Rückfahrt genutzt werden können. \n\n\n\n\nFahrt 1\nFahrt 2\nHaltestelle\n\n\n13:30\n16:00\nSchwanbergerstraße\n\n\n13:35\n16:05\nBushaltestelle Valentino\n\n\n13:37\n16:07\nBushaltestelle Almer Herbert (vor Gärtnerei Grinschgl)\n\n\n13:42\n16:12\nJohngraben\n\n\n13:47\n16:17\nRassach\n\n\n13:52\n16:22\nTomberg\n\n\n13:55\n16:25\nFlascherlzug Stainz\n\n\n13:58\n16:28\nPichling\n\n\n14:03\n16:33\nOberrossegg\n\n\n14:06\n16:36\nP&R Lannach\n\n\n14:30\n17:00\nAnkunft Seifenfabrik\n\n\n\n\n19:00\n23:00\nRetourfahrt Deutschlandsberg
URL:https://betriebsrat-lebensgross.at/event/herbstfest/
ATTACH;FMTTYPE=image/png:https://betriebsrat-lebensgross.at/wp-content/uploads/2025/07/noun-party-7650228-e1752657736686.png
END:VEVENT
END:VCALENDAR