BEGIN:VCALENDAR
VERSION:2.0
PRODID:-// - ECPv6.15.20//NONSGML v1.0//EN
CALSCALE:GREGORIAN
METHOD:PUBLISH
X-ORIGINAL-URL:https://betriebsrat-lebensgross.at
X-WR-CALDESC:Veranstaltungen für 
REFRESH-INTERVAL;VALUE=DURATION:PT1H
X-Robots-Tag:noindex
X-PUBLISHED-TTL:PT1H
BEGIN:VTIMEZONE
TZID:Europe/Berlin
BEGIN:DAYLIGHT
TZOFFSETFROM:+0100
TZOFFSETTO:+0200
TZNAME:CEST
DTSTART:20240331T010000
END:DAYLIGHT
BEGIN:STANDARD
TZOFFSETFROM:+0200
TZOFFSETTO:+0100
TZNAME:CET
DTSTART:20241027T010000
END:STANDARD
BEGIN:DAYLIGHT
TZOFFSETFROM:+0100
TZOFFSETTO:+0200
TZNAME:CEST
DTSTART:20250330T010000
END:DAYLIGHT
BEGIN:STANDARD
TZOFFSETFROM:+0200
TZOFFSETTO:+0100
TZNAME:CET
DTSTART:20251026T010000
END:STANDARD
BEGIN:DAYLIGHT
TZOFFSETFROM:+0100
TZOFFSETTO:+0200
TZNAME:CEST
DTSTART:20260329T010000
END:DAYLIGHT
BEGIN:STANDARD
TZOFFSETFROM:+0200
TZOFFSETTO:+0100
TZNAME:CET
DTSTART:20261025T010000
END:STANDARD
END:VTIMEZONE
BEGIN:VEVENT
DTSTART;TZID=Europe/Berlin:20251204T123000
DTEND;TZID=Europe/Berlin:20251204T150000
DTSTAMP:20260422T134837
CREATED:20251203T110637Z
LAST-MODIFIED:20251203T111859Z
UID:10799-1764851400-1764860400@betriebsrat-lebensgross.at
SUMMARY:Warnstreik!
DESCRIPTION:Aufgrund der stockenden SWÖ-Gehaltsverhandlungen wird am Standort TWS Reininghaus Q 6 von 12:30 – 15:00 die Arbeit niedergelegt.
URL:https://betriebsrat-lebensgross.at/event/warnstreik/
ATTACH;FMTTYPE=image/png:https://betriebsrat-lebensgross.at/wp-content/uploads/2025/12/noun-strikes-3188921-e1764759946406.png
END:VEVENT
END:VCALENDAR