BEGIN:VCALENDAR
VERSION:2.0
PRODID:-// - ECPv6.15.20//NONSGML v1.0//EN
CALSCALE:GREGORIAN
METHOD:PUBLISH
X-ORIGINAL-URL:https://betriebsrat-lebensgross.at
X-WR-CALDESC:Veranstaltungen für 
REFRESH-INTERVAL;VALUE=DURATION:PT1H
X-Robots-Tag:noindex
X-PUBLISHED-TTL:PT1H
BEGIN:VTIMEZONE
TZID:Europe/Berlin
BEGIN:DAYLIGHT
TZOFFSETFROM:+0100
TZOFFSETTO:+0200
TZNAME:CEST
DTSTART:20250330T010000
END:DAYLIGHT
BEGIN:STANDARD
TZOFFSETFROM:+0200
TZOFFSETTO:+0100
TZNAME:CET
DTSTART:20251026T010000
END:STANDARD
BEGIN:DAYLIGHT
TZOFFSETFROM:+0100
TZOFFSETTO:+0200
TZNAME:CEST
DTSTART:20260329T010000
END:DAYLIGHT
BEGIN:STANDARD
TZOFFSETFROM:+0200
TZOFFSETTO:+0100
TZNAME:CET
DTSTART:20261025T010000
END:STANDARD
BEGIN:DAYLIGHT
TZOFFSETFROM:+0100
TZOFFSETTO:+0200
TZNAME:CEST
DTSTART:20270328T010000
END:DAYLIGHT
BEGIN:STANDARD
TZOFFSETFROM:+0200
TZOFFSETTO:+0100
TZNAME:CET
DTSTART:20271031T010000
END:STANDARD
END:VTIMEZONE
BEGIN:VEVENT
DTSTART;TZID=Europe/Berlin:20260607T150000
DTEND;TZID=Europe/Berlin:20260607T233000
DTSTAMP:20260425T133520
CREATED:20260424T095847Z
LAST-MODIFIED:20260424T101104Z
UID:11088-1780844400-1780875000@betriebsrat-lebensgross.at
SUMMARY:Festival CORE & MORE
DESCRIPTION:Wir wissen: Unsere Arbeitswelt ist bunt – genauso vielfältig sind auch die Menschen in der Gewerkschaftsbewegung und ihre musikalischen Vorlieben. Auch unter uns gibt es viele\, die auf energiegeladene Sounds und echte Live-Atmosphäre stehen. Besonders jenen\, die es gerne laut mögen\, legen wir das neue Festival CORE&MORE am 7. Juni auf der Schloßbergbühne Kasematten ans Herz! \nHier treffen Metalcore\, Hardcore\, Punk und viele weitere Spielarten aufeinander – brachial\, intensiv und mit jeder Menge Community-Feeling. Über den Betriebsrat hast du die Möglichkeit\, dir und deinen KollegInnen 10 % Rabatt auf den Ticketpreis (regulär € 89\,90) zu sichern. Eine tolle Gelegenheit\, um zusammen etwas zu erleben\, abzuschalten und die Vielfalt auch abseits des Arbeitsplatzes zu feiern. \n \nUnd so funktioniert’s: \nKlicke auf diesen Link\, gehe auf „Ticket kaufen“ und gib den Promo-Code CM2026 ein. \nAchtung: Der Code ist nur bis zum 12.05.2026 gültig! 
URL:https://betriebsrat-lebensgross.at/event/festival-core-more/
ATTACH;FMTTYPE=image/png:https://betriebsrat-lebensgross.at/wp-content/uploads/2025/07/noun-party-7650228-e1752657736686.png
END:VEVENT
END:VCALENDAR