BEGIN:VCALENDAR
VERSION:2.0
PRODID:-// - ECPv6.15.20//NONSGML v1.0//EN
CALSCALE:GREGORIAN
METHOD:PUBLISH
X-ORIGINAL-URL:https://betriebsrat-lebensgross.at
X-WR-CALDESC:Veranstaltungen für 
REFRESH-INTERVAL;VALUE=DURATION:PT1H
X-Robots-Tag:noindex
X-PUBLISHED-TTL:PT1H
BEGIN:VTIMEZONE
TZID:Europe/Berlin
BEGIN:DAYLIGHT
TZOFFSETFROM:+0100
TZOFFSETTO:+0200
TZNAME:CEST
DTSTART:20250330T010000
END:DAYLIGHT
BEGIN:STANDARD
TZOFFSETFROM:+0200
TZOFFSETTO:+0100
TZNAME:CET
DTSTART:20251026T010000
END:STANDARD
BEGIN:DAYLIGHT
TZOFFSETFROM:+0100
TZOFFSETTO:+0200
TZNAME:CEST
DTSTART:20260329T010000
END:DAYLIGHT
BEGIN:STANDARD
TZOFFSETFROM:+0200
TZOFFSETTO:+0100
TZNAME:CET
DTSTART:20261025T010000
END:STANDARD
BEGIN:DAYLIGHT
TZOFFSETFROM:+0100
TZOFFSETTO:+0200
TZNAME:CEST
DTSTART:20270328T010000
END:DAYLIGHT
BEGIN:STANDARD
TZOFFSETFROM:+0200
TZOFFSETTO:+0100
TZNAME:CET
DTSTART:20271031T010000
END:STANDARD
END:VTIMEZONE
BEGIN:VEVENT
DTSTART;VALUE=DATE:20260930
DTEND;VALUE=DATE:20261001
DTSTAMP:20260423T160531
CREATED:20260326T101744Z
LAST-MODIFIED:20260326T101756Z
UID:11036-1790726400-1790812799@betriebsrat-lebensgross.at
SUMMARY:BR-Ausflug Brauerei
DESCRIPTION:Bier ist und bleibt das Lieblingsgetränk der Nation! Es ist wichtiger Impuls für die österreichische Wirtschaft und genießt höchste Wertschätzung auch über die Grenzen des „Bierlandes Österreich“ hinaus. Darum bieten wir unseren KollegInnen einen Ausflug zu einer kleinen Privatbrauereri im steirischen Raum. Das Datum steht fest\, der Bus ist reserviert\, nur das tatsächliche Ziel der Brauerei ist noch offen und wird nachgereicht. Du kannst dich  aber bereits jetzt schon dazu unter office@betriebsrat-lg.at anmelden. \nHier ein kleiner Überblick: \nhttps://bierland-oesterreich.at/braustaetten/bierlandkarte.html
URL:https://betriebsrat-lebensgross.at/event/br-ausflug-brauerei/
ATTACH;FMTTYPE=image/png:https://betriebsrat-lebensgross.at/wp-content/uploads/2025/01/noun-trip-2081060-e1736856848201.png
END:VEVENT
END:VCALENDAR