BEGIN:VCALENDAR
VERSION:2.0
PRODID:-// - ECPv6.15.20//NONSGML v1.0//EN
CALSCALE:GREGORIAN
METHOD:PUBLISH
X-ORIGINAL-URL:https://betriebsrat-lebensgross.at
X-WR-CALDESC:Veranstaltungen für 
REFRESH-INTERVAL;VALUE=DURATION:PT1H
X-Robots-Tag:noindex
X-PUBLISHED-TTL:PT1H
BEGIN:VTIMEZONE
TZID:Europe/Berlin
BEGIN:DAYLIGHT
TZOFFSETFROM:+0100
TZOFFSETTO:+0200
TZNAME:CEST
DTSTART:20250330T010000
END:DAYLIGHT
BEGIN:STANDARD
TZOFFSETFROM:+0200
TZOFFSETTO:+0100
TZNAME:CET
DTSTART:20251026T010000
END:STANDARD
BEGIN:DAYLIGHT
TZOFFSETFROM:+0100
TZOFFSETTO:+0200
TZNAME:CEST
DTSTART:20260329T010000
END:DAYLIGHT
BEGIN:STANDARD
TZOFFSETFROM:+0200
TZOFFSETTO:+0100
TZNAME:CET
DTSTART:20261025T010000
END:STANDARD
BEGIN:DAYLIGHT
TZOFFSETFROM:+0100
TZOFFSETTO:+0200
TZNAME:CEST
DTSTART:20270328T010000
END:DAYLIGHT
BEGIN:STANDARD
TZOFFSETFROM:+0200
TZOFFSETTO:+0100
TZNAME:CET
DTSTART:20271031T010000
END:STANDARD
END:VTIMEZONE
BEGIN:VEVENT
DTSTART;VALUE=DATE:20261111
DTEND;VALUE=DATE:20261112
DTSTAMP:20260423T214340
CREATED:20260323T132821Z
LAST-MODIFIED:20260323T132821Z
UID:11033-1794355200-1794441599@betriebsrat-lebensgross.at
SUMMARY:Betriebsausflug - Wien "Dokumentationsarchiv des österreichischen Widerstandes" (DÖW)
DESCRIPTION:Unsere zweite Wienfahr bringt uns ins Dokumentationsarchiv des österreichischen Widerstandres. Dort bekommen wir mit einer Führung einen guten Einblick über die Entwicklung des Rechtsextremismus von damals und heute. Nach dem Besuch im Archiv gibt es noch die Möglichkeit\, Die Stadt Wien nach freiem Wunsch zu erkunden. \nDas Dokumentationsarchiv des österreichischen Widerstandes (kurz DÖW) ist eine zentrale österreichische Einrichtung\, die sich mit der Erforschung und Dokumentation des Widerstands gegen den Nationalsozialismus sowie mit den Verbrechen der NS-Zeit beschäftigt. Es sammelt Berichte\, Briefe\, Fotos und andere Quellen über Menschen und Gruppen\, die sich gegen das NS-Regime gestellt haben. Historiker:innen analysieren Themen wie Verfolgung\, Exil\, Holocaust und politische Repression. Das DÖW beobachtet und analysiert auch aktuelle rechtsextreme Entwicklungen und trägt dazu bei\, die Geschichte des Widerstands sichtbar zu machen und das Gedenken an die Opfer des Nationalsozialismus wachzuhalten. Gleichzeitig hilft es\, heutige Formen von Extremismus besser zu verstehen und ihnen entgegenzuwirken. \nNähere Info’s findest du hier! \nGenaue Informationen zu An- und Abfahrtszeiten folgen!
URL:https://betriebsrat-lebensgross.at/event/betriebsausflug-wien-dokumentationsarchiv-des-oesterreichischen-widerstandes-doew/
ATTACH;FMTTYPE=image/png:https://betriebsrat-lebensgross.at/wp-content/uploads/2025/01/noun-trip-2081060-e1736856848201.png
END:VEVENT
END:VCALENDAR