BEGIN:VCALENDAR
VERSION:2.0
PRODID:-// - ECPv6.15.20//NONSGML v1.0//EN
CALSCALE:GREGORIAN
METHOD:PUBLISH
X-ORIGINAL-URL:https://betriebsrat-lebensgross.at
X-WR-CALDESC:Veranstaltungen für 
REFRESH-INTERVAL;VALUE=DURATION:PT1H
X-Robots-Tag:noindex
X-PUBLISHED-TTL:PT1H
BEGIN:VTIMEZONE
TZID:Europe/Berlin
BEGIN:DAYLIGHT
TZOFFSETFROM:+0100
TZOFFSETTO:+0200
TZNAME:CEST
DTSTART:20240331T010000
END:DAYLIGHT
BEGIN:STANDARD
TZOFFSETFROM:+0200
TZOFFSETTO:+0100
TZNAME:CET
DTSTART:20241027T010000
END:STANDARD
BEGIN:DAYLIGHT
TZOFFSETFROM:+0100
TZOFFSETTO:+0200
TZNAME:CEST
DTSTART:20250330T010000
END:DAYLIGHT
BEGIN:STANDARD
TZOFFSETFROM:+0200
TZOFFSETTO:+0100
TZNAME:CET
DTSTART:20251026T010000
END:STANDARD
BEGIN:DAYLIGHT
TZOFFSETFROM:+0100
TZOFFSETTO:+0200
TZNAME:CEST
DTSTART:20260329T010000
END:DAYLIGHT
BEGIN:STANDARD
TZOFFSETFROM:+0200
TZOFFSETTO:+0100
TZNAME:CET
DTSTART:20261025T010000
END:STANDARD
END:VTIMEZONE
BEGIN:VEVENT
DTSTART;TZID=Europe/Berlin:20250119T090000
DTEND;TZID=Europe/Berlin:20250119T160000
DTSTAMP:20260424T230643
CREATED:20250114T125628Z
LAST-MODIFIED:20250114T130022Z
UID:10160-1737277200-1737302400@betriebsrat-lebensgross.at
SUMMARY:AK - Skitag Brunneralm-Veitsch
DESCRIPTION:Am 19. Jänner gibt es auf der Brunnalm-Veitsch gegen Vorlage der ACard 50 Prozent Ermäßigung auf die Tageskarte. Kinder bis 6 Jahren fahren gratis. \nNähere Infos findest du unter \nhttps://stmk.arbeiterkammer.at/service/veranstaltungen/februar/AK-Skitag_Brunnalm_-_Hohe_Veitsch.html \n 
URL:https://betriebsrat-lebensgross.at/event/ak-skitag/
ATTACH;FMTTYPE=image/png:https://betriebsrat-lebensgross.at/wp-content/uploads/2025/01/noun-skiing-6505591-e1736859378951.png
END:VEVENT
BEGIN:VEVENT
DTSTART;TZID=Europe/Berlin:20250123T170000
DTEND;TZID=Europe/Berlin:20250123T210000
DTSTAMP:20260424T230643
CREATED:20250113T143604Z
LAST-MODIFIED:20250120T123308Z
UID:10115-1737651600-1737666000@betriebsrat-lebensgross.at
SUMMARY:Kinoabend "Wer hat Angst vor Braunau?"
DESCRIPTION:Als erstes Highlight im kommenden Jahr organisieren wir am 23.01.2025 um 18:00 Uhr (17:00 Uhr Einlass) wieder einen Kinoabend und ein anschließendes Gespräch mit den Filmemacherinnen. \nJulia Mitterlehner giBT als ehemalige Mitarbeiterin und Leitung einer Einrichtung der Lebenshilfe Oberösterreich mit ihrem Film einen tiefen Einblick über den Ort Braunau und das polarisierte Gebäude im Ortskern. Im Anschluss sind die beiden Filmschaffenden Julia und Günther für eine Gesprächsrunde mit dabei. \nFür unsere Kolleg:innen und deren Begleitperson ist der Eintritt frei und es gibt Getränke und Popcorn. Wir freuen uns auf eure Anmeldungen unter office@betriebsrat-lg.at \nPlätze sind begrenzt  (ca. 100 Plätze) – first come\, first serve! \nTrailer \nInfos zum Film
URL:https://betriebsrat-lebensgross.at/event/kinoabend-wer-hat-angst-vor-braunau/
LOCATION:Kiz Royal\, Graz
ATTACH;FMTTYPE=image/png:https://betriebsrat-lebensgross.at/wp-content/uploads/2025/01/noun-film-5676860-1-e1736853083972.png
ORGANIZER;CN="Betriebsrat LebensGro%C3%9F":MAILTO:office@betriebsrat-lg.at
END:VEVENT
BEGIN:VEVENT
DTSTART;TZID=Europe/Berlin:20250125T090000
DTEND;TZID=Europe/Berlin:20250125T160000
DTSTAMP:20260424T230643
CREATED:20250114T125940Z
LAST-MODIFIED:20250114T130229Z
UID:10163-1737795600-1737820800@betriebsrat-lebensgross.at
SUMMARY:AK - Skitag Bürgeralpe/Mariazell
DESCRIPTION:Am 25. Jänner 2025 findet der AK-Skitag auf der Bürgeralpe/Mariazell statt. Für ACard-Besitzer:innen gibt es 50 Prozent Ermäßigung auf Tageskarten. Auch Kinder erhalten 50 Prozent Ermäßigung. \nNähere Infos findest du unter \nhttps://stmk.arbeiterkammer.at/service/veranstaltungen/februar/AK-Skitag-Buergeralpe-Mariazell.html
URL:https://betriebsrat-lebensgross.at/event/ak-skitag-buergeralpe-mariazell/
ATTACH;FMTTYPE=image/png:https://betriebsrat-lebensgross.at/wp-content/uploads/2025/01/noun-skiing-6505591-e1736859378951.png
END:VEVENT
BEGIN:VEVENT
DTSTART;TZID=Europe/Berlin:20250125T163000
DTEND;TZID=Europe/Berlin:20250125T210000
DTSTAMP:20260424T230643
CREATED:20250124T111926Z
LAST-MODIFIED:20250124T111926Z
UID:10201-1737822600-1737838800@betriebsrat-lebensgross.at
SUMMARY:Demo Offensive gegen Rechts
DESCRIPTION:Anlässlich einer drohenden Blau-Schwarzen Regierung ist es umso wichtiger gegen den 70. Akademikerball in Graz auf die Straße zu gehen! \nWir setzen uns dem entgegen und treffen uns zur ersten (!)\, großen Demo gegen Rechts im neuen Jahr in Graz! \nWann: 25. Jänner 2025\, 16:30\nWo: Mariahilferplatz \nKomm zu unserer Demonstration\, bring Freund*innen\, Arbeitskolleg*innen und deine Familie mit und leiste mit uns Widerstand gegen Faschismus\, Sexismus etc. und kämpfen wir für ein gutes Leben für alle! \n🚨 Wer sich davor schon aktiv einbringen möchte:\nwir treffen uns jeden Donnerstag um 16:30 am Südtirolerplatz zur Kundgebung gegen Rechts! \nhttps://ogr.or.at/index.php/2025/01/07/graz-sagt-nein-zu-blau-schwarz-nein-zum-70-akademikerball-in-graz/ \n 
URL:https://betriebsrat-lebensgross.at/event/demo-offensive-gegen-rechts/
ATTACH;FMTTYPE=image/png:https://betriebsrat-lebensgross.at/wp-content/uploads/2024/12/noun-megaphone-7190952-1-e1737717661375.png
END:VEVENT
BEGIN:VEVENT
DTSTART;TZID=Europe/Berlin:20250126T090000
DTEND;TZID=Europe/Berlin:20250126T160000
DTSTAMP:20260424T230643
CREATED:20250114T130437Z
LAST-MODIFIED:20250114T130437Z
UID:10167-1737882000-1737907200@betriebsrat-lebensgross.at
SUMMARY:AK - Skitag Hohentauern
DESCRIPTION:Beim AK-Skitag in Hohentauern am 26. Jänner 2025 gibt es gegen Vorlage der ACard 50 Prozent Ermäßigung auf die Tageskarte. Für Kinder gibt es ebenfalls 50 Prozent Ermäßigung. \nNähere Infos findest du unter: \nhttps://stmk.arbeiterkammer.at/service/veranstaltungen/Januar/AK-Skitag-Hohentauern.html
URL:https://betriebsrat-lebensgross.at/event/ak-skitag-hohentauern/
ATTACH;FMTTYPE=image/png:https://betriebsrat-lebensgross.at/wp-content/uploads/2025/01/noun-skiing-6505591-e1736859378951.png
END:VEVENT
END:VCALENDAR