BEGIN:VCALENDAR
VERSION:2.0
PRODID:-// - ECPv6.15.20//NONSGML v1.0//EN
CALSCALE:GREGORIAN
METHOD:PUBLISH
X-ORIGINAL-URL:https://betriebsrat-lebensgross.at
X-WR-CALDESC:Veranstaltungen für 
REFRESH-INTERVAL;VALUE=DURATION:PT1H
X-Robots-Tag:noindex
X-PUBLISHED-TTL:PT1H
BEGIN:VTIMEZONE
TZID:Europe/Berlin
BEGIN:DAYLIGHT
TZOFFSETFROM:+0100
TZOFFSETTO:+0200
TZNAME:CEST
DTSTART:20240331T010000
END:DAYLIGHT
BEGIN:STANDARD
TZOFFSETFROM:+0200
TZOFFSETTO:+0100
TZNAME:CET
DTSTART:20241027T010000
END:STANDARD
BEGIN:DAYLIGHT
TZOFFSETFROM:+0100
TZOFFSETTO:+0200
TZNAME:CEST
DTSTART:20250330T010000
END:DAYLIGHT
BEGIN:STANDARD
TZOFFSETFROM:+0200
TZOFFSETTO:+0100
TZNAME:CET
DTSTART:20251026T010000
END:STANDARD
BEGIN:DAYLIGHT
TZOFFSETFROM:+0100
TZOFFSETTO:+0200
TZNAME:CEST
DTSTART:20260329T010000
END:DAYLIGHT
BEGIN:STANDARD
TZOFFSETFROM:+0200
TZOFFSETTO:+0100
TZNAME:CET
DTSTART:20261025T010000
END:STANDARD
END:VTIMEZONE
BEGIN:VEVENT
DTSTART;TZID=Europe/Berlin:20250302T090000
DTEND;TZID=Europe/Berlin:20250302T160000
DTSTAMP:20260424T203839
CREATED:20250114T133356Z
LAST-MODIFIED:20250114T133356Z
UID:10171-1740906000-1740931200@betriebsrat-lebensgross.at
SUMMARY:AK - Skitag Lachtal
DESCRIPTION:Am 2. März 2025 gibt es am Lachtal gegen Vorlage der ACard die Tageskarte zum Sonderpreis von 38 Euro. \nNähere Infos findest du unter: \nhttps://stmk.arbeiterkammer.at/service/veranstaltungen/Januar/AK-Skitag_Lachtal.html
URL:https://betriebsrat-lebensgross.at/event/ak-skitag-lachtal/
ATTACH;FMTTYPE=image/png:https://betriebsrat-lebensgross.at/wp-content/uploads/2025/01/noun-skiing-6505591-e1736859378951.png
END:VEVENT
BEGIN:VEVENT
DTSTART;TZID=Europe/Berlin:20250308T090000
DTEND;TZID=Europe/Berlin:20250308T160000
DTSTAMP:20260424T203839
CREATED:20250114T133606Z
LAST-MODIFIED:20250114T133606Z
UID:10173-1741424400-1741449600@betriebsrat-lebensgross.at
SUMMARY:AK - Skitag Riesneralm
DESCRIPTION:Am 8. März gibt es auf der Riesneralm gegen Vorlage der ACard 25 Prozent auf die Tageskarte für Erwachsene und 20 Prozent auf die Kinderkarte. \nNähere Infos findest du unter: \nhttps://stmk.arbeiterkammer.at/service/veranstaltungen/maerz/AK-Skitag_Riesneralm.html
URL:https://betriebsrat-lebensgross.at/event/ak-skitag-riesneralm/
ATTACH;FMTTYPE=image/png:https://betriebsrat-lebensgross.at/wp-content/uploads/2025/01/noun-skiing-6505591-e1736859378951.png
END:VEVENT
BEGIN:VEVENT
DTSTART;VALUE=DATE:20250310
DTEND;VALUE=DATE:20250402
DTSTAMP:20260424T203839
CREATED:20250225T104532Z
LAST-MODIFIED:20250225T112235Z
UID:10266-1741564800-1743551999@betriebsrat-lebensgross.at
SUMMARY:AK- Steuerspartage 2025
DESCRIPTION:Vom 10. März bis 1. April 2025 beraten Expert:innen zum Steuerausgleich\, auch Arbeitnehmerveranlagung genannt. \nTermine in Graz und den AK- Außenstellen \n \nAb 7. Jänner 2025 können Sie einen Termin vereinbaren: 05-7799-2507 \nhttps://stmk.arbeiterkammer.at/service/veranstaltungen/mai/Steuerspartage_der_AK.html
URL:https://betriebsrat-lebensgross.at/event/ak-steuerspartage-2025/
ATTACH;FMTTYPE=image/png:https://betriebsrat-lebensgross.at/wp-content/uploads/2025/02/Stuerspartage-e1740479212152.png
END:VEVENT
BEGIN:VEVENT
DTSTART;TZID=Europe/Berlin:20250319T090000
DTEND;TZID=Europe/Berlin:20250319T180000
DTSTAMP:20260424T203839
CREATED:20250113T152316Z
LAST-MODIFIED:20250129T133256Z
UID:10134-1742374800-1742407200@betriebsrat-lebensgross.at
SUMMARY:Thermenfahrt Bad Blumau #1
DESCRIPTION:Der Betriebsrat lädt zur Thermenfahrt in die Rogner Therme Bad Blumau ein\, wo du gemeinsam mit KollegInnen entspannen und relaxen kannst. Die Kosten für Bus und Eintritt werden vom Betriebsratsfonds übernommen.\nAnmeldungen werden ab sofort auf office@betriebsrat-lg.at entgegengenommen.
URL:https://betriebsrat-lebensgross.at/event/thermenfahrt-bad-blumau/
ATTACH;FMTTYPE=image/png:https://betriebsrat-lebensgross.at/wp-content/uploads/2025/01/noun-swimming-pool-7443724-e1736854926116.png
END:VEVENT
BEGIN:VEVENT
DTSTART;TZID=Europe/Berlin:20250320T090000
DTEND;TZID=Europe/Berlin:20250320T210000
DTSTAMP:20260424T203839
CREATED:20250113T154042Z
LAST-MODIFIED:20250114T114405Z
UID:10138-1742461200-1742504400@betriebsrat-lebensgross.at
SUMMARY:Thermenfahrt Bad Blumau #2
DESCRIPTION:Der Betriebsrat lädt zur Thermenfahrt in die Rogner Therme Bad Blumau ein. wo du gemeinsam mit KollegInnen entspannen und relaxen kannst. Die Kosten für Bus und Eintritt werden vom Betriebsratsfonds übernommen.\nAnmeldungen werden ab sofort auf office@betriebsrat-lg.at entgegengenommen.
URL:https://betriebsrat-lebensgross.at/event/thermenfahrt-bad-blumau-2/
ATTACH;FMTTYPE=image/png:https://betriebsrat-lebensgross.at/wp-content/uploads/2025/01/noun-swimming-pool-7443724-e1736854926116.png
END:VEVENT
BEGIN:VEVENT
DTSTART;TZID=Europe/Berlin:20250321T100000
DTEND;TZID=Europe/Berlin:20250322T200000
DTSTAMP:20260424T203839
CREATED:20250219T105603Z
LAST-MODIFIED:20250225T114226Z
UID:10261-1742551200-1742673600@betriebsrat-lebensgross.at
SUMMARY:AK Fahrradbörse - Graz
DESCRIPTION:Verkauf dein altes Rad oder kauf dir ein neues!\nInfos unter: https://stmk.arbeiterkammer.at/rad\nFreitag\, 21.03.2025 – 10:00 bis 20:00 (Radannahme) \nSamstag \, 22.03.2025 – 10:00 – 17:00 (Verkaufstag) \nWo: \nGrazer Messe – Halle A
URL:https://betriebsrat-lebensgross.at/event/ak-fahrradboerse/
ATTACH;FMTTYPE=image/png:https://betriebsrat-lebensgross.at/wp-content/uploads/2024/04/noun-bicycle-6786022-e1739962539221.png
END:VEVENT
END:VCALENDAR