BEGIN:VCALENDAR
VERSION:2.0
PRODID:-// - ECPv6.15.20//NONSGML v1.0//EN
CALSCALE:GREGORIAN
METHOD:PUBLISH
X-ORIGINAL-URL:https://betriebsrat-lebensgross.at
X-WR-CALDESC:Veranstaltungen für 
REFRESH-INTERVAL;VALUE=DURATION:PT1H
X-Robots-Tag:noindex
X-PUBLISHED-TTL:PT1H
BEGIN:VTIMEZONE
TZID:Europe/Berlin
BEGIN:DAYLIGHT
TZOFFSETFROM:+0100
TZOFFSETTO:+0200
TZNAME:CEST
DTSTART:20240331T010000
END:DAYLIGHT
BEGIN:STANDARD
TZOFFSETFROM:+0200
TZOFFSETTO:+0100
TZNAME:CET
DTSTART:20241027T010000
END:STANDARD
BEGIN:DAYLIGHT
TZOFFSETFROM:+0100
TZOFFSETTO:+0200
TZNAME:CEST
DTSTART:20250330T010000
END:DAYLIGHT
BEGIN:STANDARD
TZOFFSETFROM:+0200
TZOFFSETTO:+0100
TZNAME:CET
DTSTART:20251026T010000
END:STANDARD
BEGIN:DAYLIGHT
TZOFFSETFROM:+0100
TZOFFSETTO:+0200
TZNAME:CEST
DTSTART:20260329T010000
END:DAYLIGHT
BEGIN:STANDARD
TZOFFSETFROM:+0200
TZOFFSETTO:+0100
TZNAME:CET
DTSTART:20261025T010000
END:STANDARD
END:VTIMEZONE
BEGIN:VEVENT
DTSTART;VALUE=DATE:20250310
DTEND;VALUE=DATE:20250402
DTSTAMP:20260424T192452
CREATED:20250225T104532Z
LAST-MODIFIED:20250225T112235Z
UID:10266-1741564800-1743551999@betriebsrat-lebensgross.at
SUMMARY:AK- Steuerspartage 2025
DESCRIPTION:Vom 10. März bis 1. April 2025 beraten Expert:innen zum Steuerausgleich\, auch Arbeitnehmerveranlagung genannt. \nTermine in Graz und den AK- Außenstellen \n \nAb 7. Jänner 2025 können Sie einen Termin vereinbaren: 05-7799-2507 \nhttps://stmk.arbeiterkammer.at/service/veranstaltungen/mai/Steuerspartage_der_AK.html
URL:https://betriebsrat-lebensgross.at/event/ak-steuerspartage-2025/
ATTACH;FMTTYPE=image/png:https://betriebsrat-lebensgross.at/wp-content/uploads/2025/02/Stuerspartage-e1740479212152.png
END:VEVENT
BEGIN:VEVENT
DTSTART;TZID=Europe/Berlin:20250401T170000
DTEND;TZID=Europe/Berlin:20250401T190000
DTSTAMP:20260424T192452
CREATED:20250311T102131Z
LAST-MODIFIED:20250311T102131Z
UID:10337-1743526800-1743534000@betriebsrat-lebensgross.at
SUMMARY:Künstliche Intelligenz in der Arbeitswelt
DESCRIPTION:Über den Status quo der Künstlichen Intelligenz im betrieblichen Umfeld\, vor welchen Herausforderungen die Beschäftigten und Betriebe künftig stehen oder welche Rolle die Mitbestimmung des Betriebsrates beim Einsatz von KI-Systemen spielen wird\, darüber informiert Thomas Riesenecker-Caba (Geschäftsführer der Wiener Forschungs- und Beratungsstelle Arbeitswelt) am 1. April im Kammersaal in Graz von 17 bis 19 Uhr. \nAnmeldung unter: https://stmk.arbeiterkammer.at/service/veranstaltungen/april/KI-in-der-Arbeitswelt.html
URL:https://betriebsrat-lebensgross.at/event/kuenstliche-intelligenz-in-der-arbeitswelt/
ATTACH;FMTTYPE=image/png:https://betriebsrat-lebensgross.at/wp-content/uploads/2025/03/noun-kikuyu-1054606-e1741688137745.png
END:VEVENT
BEGIN:VEVENT
DTSTART;TZID=Europe/Berlin:20250404T100000
DTEND;TZID=Europe/Berlin:20250405T200000
DTSTAMP:20260424T192452
CREATED:20250225T114049Z
LAST-MODIFIED:20250226T090526Z
UID:10281-1743760800-1743883200@betriebsrat-lebensgross.at
SUMMARY:AK Fahrradbörse - Feldbach
DESCRIPTION:Verkauf dein altes Rad oder kauf dir ein neues!\nInfos unter: https://stmk.arbeiterkammer.at/rad\nFreitag\, 04.04.2025 – 10:00 bis 20:00 (Radannahme) \nSamstag \, 05.04.03.2025 – 10:00 – 17:00 (Verkaufstag) \nWo: Asphalthallen im Freizeitzentrum Feldbach
URL:https://betriebsrat-lebensgross.at/event/ak-fahrradboerse-feldbach/
ATTACH;FMTTYPE=image/png:https://betriebsrat-lebensgross.at/wp-content/uploads/2024/04/noun-bicycle-6786022-e1739962539221.png
END:VEVENT
END:VCALENDAR