BEGIN:VCALENDAR
VERSION:2.0
PRODID:-// - ECPv6.15.20//NONSGML v1.0//EN
CALSCALE:GREGORIAN
METHOD:PUBLISH
X-ORIGINAL-URL:https://betriebsrat-lebensgross.at
X-WR-CALDESC:Veranstaltungen für 
REFRESH-INTERVAL;VALUE=DURATION:PT1H
X-Robots-Tag:noindex
X-PUBLISHED-TTL:PT1H
BEGIN:VTIMEZONE
TZID:Europe/Berlin
BEGIN:DAYLIGHT
TZOFFSETFROM:+0100
TZOFFSETTO:+0200
TZNAME:CEST
DTSTART:20240331T010000
END:DAYLIGHT
BEGIN:STANDARD
TZOFFSETFROM:+0200
TZOFFSETTO:+0100
TZNAME:CET
DTSTART:20241027T010000
END:STANDARD
BEGIN:DAYLIGHT
TZOFFSETFROM:+0100
TZOFFSETTO:+0200
TZNAME:CEST
DTSTART:20250330T010000
END:DAYLIGHT
BEGIN:STANDARD
TZOFFSETFROM:+0200
TZOFFSETTO:+0100
TZNAME:CET
DTSTART:20251026T010000
END:STANDARD
BEGIN:DAYLIGHT
TZOFFSETFROM:+0100
TZOFFSETTO:+0200
TZNAME:CEST
DTSTART:20260329T010000
END:DAYLIGHT
BEGIN:STANDARD
TZOFFSETFROM:+0200
TZOFFSETTO:+0100
TZNAME:CET
DTSTART:20261025T010000
END:STANDARD
END:VTIMEZONE
BEGIN:VEVENT
DTSTART;TZID=Europe/Berlin:20250508T173000
DTEND;TZID=Europe/Berlin:20250508T210000
DTSTAMP:20260424T181917
CREATED:20250114T120327Z
LAST-MODIFIED:20250226T120809Z
UID:10151-1746725400-1746738000@betriebsrat-lebensgross.at
SUMMARY:Raiffeisen Businesslauf
DESCRIPTION:Wir wollen wieder etwas bewegen\, nämlich uns! Darum möchte LebensGroß und Betriebsrat wieder gemeinsam mit den Kolle:ginnen am Raifeisen Businesslauf teilnehmen\, wo eine 5 km lange Strecke durch die Grazer Innenstadt zu bewältigen sein wird. \n\nDonnerstag\, 08.05.2025\nStart: 18:20\nKarmeliterplatz\, Grazer Innenstadt\n\nAnmeldeschluss ist der 25.04.2024. Für eine Anmeldung schicke uns deinen Namen und dein Geburtsdatum per Mail an office@betriebsrat-lg.at. Falls du ein Laufleiberl brauchst\, sag uns bitte deine Größe. Kosten und Organisation werden von uns und Geschäftsführung übernommen. Wir werden eine Stunde (ab 17:30) vor Startbeginn vor Ort sein\, um die Startnummern an euch auszuteilen.
URL:https://betriebsrat-lebensgross.at/event/raiffeisen-businesslauf/
ATTACH;FMTTYPE=image/png:https://betriebsrat-lebensgross.at/wp-content/uploads/2025/01/noun-victory-1370961-e1736855985813.png
END:VEVENT
BEGIN:VEVENT
DTSTART;TZID=Europe/Berlin:20250512T100000
DTEND;TZID=Europe/Berlin:20250512T130000
DTSTAMP:20260424T181917
CREATED:20250403T101901Z
LAST-MODIFIED:20250403T101901Z
UID:10368-1747044000-1747054800@betriebsrat-lebensgross.at
SUMMARY:Tag der Pflege - Aktion
DESCRIPTION:Am 12. Mai ist der Tag der Pflege. Der ÖGB und die 4 Gewerkschaften (GPA\, GÖD\, VIDA und younion) veranstalten gemeinsam an diesem Tag eine AKtion am Mariahilfer Platz Graz ab 10:00 Uhr. Wir vom Betriebsrat sind natürlich dort und freuen uns auf deine Teilnahme und jede weitere Stimme\, die dort für die Pflege ein Zeichen setzt.
URL:https://betriebsrat-lebensgross.at/event/tag-der-pflege-aktion/
ATTACH;FMTTYPE=image/png:https://betriebsrat-lebensgross.at/wp-content/uploads/2024/12/noun-megaphone-7190952-1-e1737717661375.png
END:VEVENT
BEGIN:VEVENT
DTSTART;TZID=Europe/Berlin:20250512T170000
DTEND;TZID=Europe/Berlin:20250512T210000
DTSTAMP:20260424T181917
CREATED:20250424T092840Z
LAST-MODIFIED:20250424T092918Z
UID:10399-1747069200-1747083600@betriebsrat-lebensgross.at
SUMMARY:AK Kinoabend - "Heldin"
DESCRIPTION:Die Arbeiterkammer Steiermark lädt alle Interessierten herzlich zur Präsentation des Films „Heldin“ am Montag\, 12. Mai 2025 (18 Uhr)\, ins Cineplexx Graz-Puntigam ein. Die Kartenabholung ist am 12. Mai ab 17 Uhr beim AK-Steiermark-Stand im Kino möglich. Die AK bittet um Anmeldung bis 7. Mai 2025. \nAnlass der Veranstaltung ist der internationale Tag der Pflegenden\, der heuer unter dem Motto steht: „Unsere Pflegekräfte. Unsere Zukunft. Gesunde Pflegekräfte stärken die Gesellschaft. Geht es den Pflegekräften gut\, geht es auch der Gesellschaft gut.“ Aktuelle Umfragen der Arbeiterkammer zeichnen nach wie vor ein Bild zunehmender Belastung. Mit dem internationalen Tag der Pflegenden wird weltweit die Arbeit und Bedeutung von Pflegekräften gewürdigt. Mit ihm soll das Bewusstsein für die besonderen Leistungen der Pflege gestärkt werden. \nHier geht’s zur Anmeldung \nTrailer
URL:https://betriebsrat-lebensgross.at/event/ak-kinoabend-heldin/
ATTACH;FMTTYPE=image/png:https://betriebsrat-lebensgross.at/wp-content/uploads/2025/01/noun-film-5676860-1-e1736853083972.png
END:VEVENT
BEGIN:VEVENT
DTSTART;VALUE=DATE:20250528
DTEND;VALUE=DATE:20250529
DTSTAMP:20260424T181917
CREATED:20250225T121626Z
LAST-MODIFIED:20250508T110518Z
UID:10286-1748390400-1748476799@betriebsrat-lebensgross.at
SUMMARY:Betriebsausflug zum Wiener Zentralfriedhof
DESCRIPTION:Wir machen einen Ausflug nach Wien zum Zentralfriedhof mit Führung durch die Parklandschaft. Ob Beethoven oder Schubert\, Falco oder Udo Jürgens – wer über den Wiener Zentralfriedhof spaziert\, wird so einige berühmte Namen entdecken. Mit seinen rund 150 Jahren hat der Wiener Zentralfriedhof nicht nur geschichtlich viel zu bieten\, auch architektonisch und in Bezug auf Flora und Fauna gibt es einiges zu entdecken. \nhttps://www.friedhoefewien.at/wiener-zentralfriedhof \nBei der Rückreise machen wir noch einen Halt beim Eis Greissler mit einem Essen im  Kulinarik-Restaurant und machen anschließend eine Eis-Zeitreise-Erlebnistour durch die Eis Geschichte. \nhttps://www.eis-greissler.at/eis-zeitreise/ \nAnmeldung ab sofort unter office@betriebsrat-lg.at möglich. Wir freuen uns auf deine Teilnahme! \nEinstiegsstellen für den Bus:\n\n07:00 Uhr – Vorum Voitsberg\n07:30 Uhr – P&R Stainz\n07:50 Uhr – Bahnhof Lieboch\n08:10 Uhr – Murpark Graz (FlixBus Haltestelle)\n\n\nProgrammablauf:\n\n09:30 Uhr – Kaffeepause auf der Anreise\n11:00 Uhr – Führung „Geheimnisvoller Zentralfriedhof“ (120 Min)\n13:00 Uhr – Fahrt nach Krumbach zum Eis-Greisler\n14:00 Uhr – Mittagessen im Kulinarik-Restaurant\n16:00 Uhr – Eis-Zeitreise\nca. 17:30 Uhr – Rückreise (20:00 Uhr Vorum Voitsberg)\n\n  \n 
URL:https://betriebsrat-lebensgross.at/event/betriebsausflug-zum-wiener-zentralfriedhof/
ATTACH;FMTTYPE=image/png:https://betriebsrat-lebensgross.at/wp-content/uploads/2025/01/noun-trip-2081060-e1736856848201.png
END:VEVENT
END:VCALENDAR