BEGIN:VCALENDAR
VERSION:2.0
PRODID:-// - ECPv6.15.20//NONSGML v1.0//EN
CALSCALE:GREGORIAN
METHOD:PUBLISH
X-ORIGINAL-URL:https://betriebsrat-lebensgross.at
X-WR-CALDESC:Veranstaltungen für 
REFRESH-INTERVAL;VALUE=DURATION:PT1H
X-Robots-Tag:noindex
X-PUBLISHED-TTL:PT1H
BEGIN:VTIMEZONE
TZID:Europe/Berlin
BEGIN:DAYLIGHT
TZOFFSETFROM:+0100
TZOFFSETTO:+0200
TZNAME:CEST
DTSTART:20240331T010000
END:DAYLIGHT
BEGIN:STANDARD
TZOFFSETFROM:+0200
TZOFFSETTO:+0100
TZNAME:CET
DTSTART:20241027T010000
END:STANDARD
BEGIN:DAYLIGHT
TZOFFSETFROM:+0100
TZOFFSETTO:+0200
TZNAME:CEST
DTSTART:20250330T010000
END:DAYLIGHT
BEGIN:STANDARD
TZOFFSETFROM:+0200
TZOFFSETTO:+0100
TZNAME:CET
DTSTART:20251026T010000
END:STANDARD
BEGIN:DAYLIGHT
TZOFFSETFROM:+0100
TZOFFSETTO:+0200
TZNAME:CEST
DTSTART:20260329T010000
END:DAYLIGHT
BEGIN:STANDARD
TZOFFSETFROM:+0200
TZOFFSETTO:+0100
TZNAME:CET
DTSTART:20261025T010000
END:STANDARD
END:VTIMEZONE
BEGIN:VEVENT
DTSTART;VALUE=DATE:20251001
DTEND;VALUE=DATE:20251002
DTSTAMP:20260424T114921
CREATED:20250507T130206Z
LAST-MODIFIED:20250522T075151Z
UID:10419-1759276800-1759363199@betriebsrat-lebensgross.at
SUMMARY:Betriebsausflug - Parlament Wien
DESCRIPTION:Aufgrund der großen Nachfrage vom letzten Besuch im Wiener Parlament haben wir uns entschlossen\, diesen zu wiederholen. \nDas Parlamentsgebäude an der Wiener Ringstraße ist der Ort der Bundesgesetzgebung und das Herz der Demokratie. Als historisches Bauwerk ist es auch erfüllt von Geschichte und Geschichten\, von Kunst und anspruchsvoller Architektur. Während einer Führung erleben wir live\, wie und wo Politiker:innen arbeiten. \nInfos zum Wiener Parlament \nFür den Ausflug ins Parlament in Wien haben wir folgendes Programm im Angebot: \nBusabfahrtszeiten und Einstiegsstellen\n\n08:00 Uhr – Vorum Voitsberg\n08:30 Uhr – P&R Stainz\n08:50 Uhr – Bahnhof Lieboch\n09:05 Uhr – Graz Murpark\n11:30 Uhr – Ankunft Parlament Wien\n\nProgramm in Wien\n\n12:30 Uhr – Führung im Parlament\n14:00 Uhr – Mittagessen im Kelsen Restaurant\n15:30 Uhr – Weiterfahrt zum „Prater“\n16:00 Uhr – Prater (freies Erkunden)\n17:30 Uhr – Heimfahrt\n20:00 Uhr – Dahoam 😉\n\nAnmeldung ab sofort unter office@betriebsrat-lg.at möglich. Wir freuen uns auf deine Teilnahme!
URL:https://betriebsrat-lebensgross.at/event/betriebsausflug-parlament-wien/
ATTACH;FMTTYPE=image/png:https://betriebsrat-lebensgross.at/wp-content/uploads/2024/10/noun-government-building-5512505-e1740491541720.png
END:VEVENT
BEGIN:VEVENT
DTSTART;TZID=Europe/Berlin:20251010T170000
DTEND;TZID=Europe/Berlin:20251010T210000
DTSTAMP:20260424T114921
CREATED:20250506T123026Z
LAST-MODIFIED:20250922T095204Z
UID:10405-1760115600-1760130000@betriebsrat-lebensgross.at
SUMMARY:Kinoabend - Feminism WTF
DESCRIPTION:Als Start für die Filmtrilogie unserer Kinoabende organisieren wir am 10.10.2025 um 18:00 Uhr (17:00 Uhr Einlass) im KIZ Royal- Kino wieder eine Filmvorführung und ein anschließendes Gespräch mit der Filmemacherin Katharina Mückstein zum Film „Feminism WTF“. \n„FEMINISM WTF ist eine internationale Topic Documentary zum Thema Feminismus und Gender-Equality. Der Feminismus gilt als die erfolgreichste soziale Bewegung des zwanzigsten Jahrhunderts und dennoch wird seine Berechtigung ständig infrage gestellt. Wie sähe tatsächliche Gleichstellung aus\, wohin entwickeln sich unsere Gesellschaften und warum regt uns die Diskussion über Geschlechterverhältnisse eigentlich so schrecklich auf?“ \nFür unsere Kolleg:innen und deren Begleitperson ist der Eintritt frei und es gibt Getränke und Popcorn. Wir freuen uns auf eure Anmeldungen unter office@betriebsrat-lg.at \nTrailer \nInfos zum Film
URL:https://betriebsrat-lebensgross.at/event/kinoabend-feminism-wtf/
ATTACH;FMTTYPE=image/png:https://betriebsrat-lebensgross.at/wp-content/uploads/2025/01/noun-film-5676860-1-e1736853083972.png
END:VEVENT
BEGIN:VEVENT
DTSTART;TZID=Europe/Berlin:20251022T090000
DTEND;TZID=Europe/Berlin:20251022T180000
DTSTAMP:20260424T114921
CREATED:20250225T125654Z
LAST-MODIFIED:20250225T125654Z
UID:10293-1761123600-1761156000@betriebsrat-lebensgross.at
SUMMARY:Thermenfahrt Bad Blumau #3
DESCRIPTION:Der Betriebsrat lädt zur Thermenfahrt in die Rogner Therme Bad Blumau ein\, wo du gemeinsam mit KollegInnen entspannen und relaxen kannst. Die Kosten für Bus und Eintritt werden vom Betriebsratsfonds übernommen.\nAnmeldungen werden ab sofort auf office@betriebsrat-lg.at entgegengenommen.
URL:https://betriebsrat-lebensgross.at/event/thermenfahrt-bad-blumau-3/
ATTACH;FMTTYPE=image/png:https://betriebsrat-lebensgross.at/wp-content/uploads/2025/01/noun-swimming-pool-7443724-e1736854926116.png
END:VEVENT
BEGIN:VEVENT
DTSTART;TZID=Europe/Berlin:20251023T090000
DTEND;TZID=Europe/Berlin:20251023T210000
DTSTAMP:20260424T114921
CREATED:20250225T125918Z
LAST-MODIFIED:20250225T125932Z
UID:10295-1761210000-1761253200@betriebsrat-lebensgross.at
SUMMARY:Thermenfahrt Bad Blumau #4
DESCRIPTION:Der Betriebsrat lädt zur Thermenfahrt in die Rogner Therme Bad Blumau ein\, wo du gemeinsam mit KollegInnen entspannen und relaxen kannst. Die Kosten für Bus und Eintritt werden vom Betriebsratsfonds übernommen.\nAnmeldungen werden ab sofort auf office@betriebsrat-lg.at entgegengenommen.
URL:https://betriebsrat-lebensgross.at/event/thermenfahrt-bad-blumau-4/
ATTACH;FMTTYPE=image/png:https://betriebsrat-lebensgross.at/wp-content/uploads/2025/01/noun-swimming-pool-7443724-e1736854926116.png
END:VEVENT
BEGIN:VEVENT
DTSTART;TZID=Europe/Berlin:20251030T170000
DTEND;TZID=Europe/Berlin:20251030T210000
DTSTAMP:20260424T114921
CREATED:20250506T124022Z
LAST-MODIFIED:20250922T095257Z
UID:10407-1761843600-1761858000@betriebsrat-lebensgross.at
SUMMARY:Kinoabend  "Soldat Monika"
DESCRIPTION:Als 2. Teil für die Filmtrilogie unserer Kinoabende organisieren wir am 30.10.2025 um 18:00 Uhr (17:00 Uhr Einlass) im KIZ Royal-Kino wieder eine Filmvorführung und ein anschließendes Gespräch mit dem Filmemacher Paul Poet zum Film „Soldat Monika“. \nEin explosiver Film vom intersektionalen Schlachtfeld der Geschlechtsidentitäten und der politischen Kämpfe. Ein Porträt der trans Frau Monika Donner\, einer ehemaligen Soldatin und heutigen Buchautorin\, die sich für die Rechte von trans Personen einsetzt – und (neu-)rechte Positionen vertritt. Donner „spielt“ sich selbst in dieser filmischen Collage\, die mit Schauspieler:innen wie Maria Hofstätter\, Mateja Meded und Philipp Hochmair Donners Gedankenwelt erkundet und das Psychogramm einer komplexen Person entstehen lässt. \nFür unsere Kolleg:innen und deren Begleitperson ist der Eintritt frei und es gibt Getränke und Popcorn. Wir freuen uns auf eure Anmeldungen unter office@betriebsrat-lg.at \nTrailer \nInfos zum Film
URL:https://betriebsrat-lebensgross.at/event/kinoabend-soldat-monika/
ATTACH;FMTTYPE=image/png:https://betriebsrat-lebensgross.at/wp-content/uploads/2025/01/noun-film-5676860-1-e1736853083972.png
END:VEVENT
END:VCALENDAR