BEGIN:VCALENDAR
VERSION:2.0
PRODID:-// - ECPv6.15.20//NONSGML v1.0//EN
CALSCALE:GREGORIAN
METHOD:PUBLISH
X-ORIGINAL-URL:https://betriebsrat-lebensgross.at
X-WR-CALDESC:Veranstaltungen für 
REFRESH-INTERVAL;VALUE=DURATION:PT1H
X-Robots-Tag:noindex
X-PUBLISHED-TTL:PT1H
BEGIN:VTIMEZONE
TZID:Europe/Berlin
BEGIN:DAYLIGHT
TZOFFSETFROM:+0100
TZOFFSETTO:+0200
TZNAME:CEST
DTSTART:20240331T010000
END:DAYLIGHT
BEGIN:STANDARD
TZOFFSETFROM:+0200
TZOFFSETTO:+0100
TZNAME:CET
DTSTART:20241027T010000
END:STANDARD
BEGIN:DAYLIGHT
TZOFFSETFROM:+0100
TZOFFSETTO:+0200
TZNAME:CEST
DTSTART:20250330T010000
END:DAYLIGHT
BEGIN:STANDARD
TZOFFSETFROM:+0200
TZOFFSETTO:+0100
TZNAME:CET
DTSTART:20251026T010000
END:STANDARD
BEGIN:DAYLIGHT
TZOFFSETFROM:+0100
TZOFFSETTO:+0200
TZNAME:CEST
DTSTART:20260329T010000
END:DAYLIGHT
BEGIN:STANDARD
TZOFFSETFROM:+0200
TZOFFSETTO:+0100
TZNAME:CET
DTSTART:20261025T010000
END:STANDARD
END:VTIMEZONE
BEGIN:VEVENT
DTSTART;TZID=Europe/Berlin:20251112T180000
DTEND;TZID=Europe/Berlin:20251112T200000
DTSTAMP:20260422T134937
CREATED:20251103T110341Z
LAST-MODIFIED:20251103T110341Z
UID:10720-1762970400-1762977600@betriebsrat-lebensgross.at
SUMMARY:Mario Matzer - Der Untergang der USA
DESCRIPTION:Was zur Hölle passiert denn bitte in den USA? Was wir gerade beobachten können\, ist der Untergang der US-amerikanischen Imperialmacht. Die Vermögensverteilung in den USA kopnzentriert sich mit unglaublicher Geschwindigkeit\, die US-Oligarchie ist dabei\, sich jeglicher noch verbliebener Gegenmacht zu entledigen. Da wir als EiropäerInnen ein Teil desselben imperialen Blocks sind und dieser ein wesentlicher Grundstock für unseren Reichtum darstellt\, stehen auch wir an einem Scheideweg: weitermachen wie bisher und Seite an Seite mit den USA in den Abgrund oder neue\, progressive Auswege finden? Sind Aufrüstung\, sozialer Kahlschlag und das Wiedererstärken der Rechtsaußenparteien wirklich unausweichlich? \nDieser Fragestellung widmet sich der Vortrag von Mario Matzer\, den du am 12.11.2025 um 18 Uhr in der VHS Graz besuchen kannst. Um Anmeldung wird gebeten – https://www.vhsstmk.at/kurssuche/kurse/35588944 \n 
URL:https://betriebsrat-lebensgross.at/event/mario-matzer-der-untergang-der-usa/
LOCATION:VHS Steiermark\, Köflachergasse 7\, Graz
ATTACH;FMTTYPE=image/png:https://betriebsrat-lebensgross.at/wp-content/uploads/2025/01/noun-dialog-7460337-e1737718499170.png
END:VEVENT
BEGIN:VEVENT
DTSTART;VALUE=DATE:20251119
DTEND;VALUE=DATE:20251120
DTSTAMP:20260422T134937
CREATED:20250225T131744Z
LAST-MODIFIED:20251104T110559Z
UID:10297-1763510400-1763596799@betriebsrat-lebensgross.at
SUMMARY:Betriebsausflug nach Mauthausen KZ-Gedenkstätte
DESCRIPTION:Im Gedenkjahr 2025 zum 80. Jahrestag  der Befreiung des Konzentrationslagers Mauthausen laden wir ein\, an die KZ-Gedenkstätte Mauthausen zu kommen. Gemeinsam möchten wir an diesem Tag ein Zeichen des Miteinanders und der Begegnung setzen. Vor dem geführten Besuch der Gedenkstätte gibt es noch ein Mittagessen in einem Gasthaus vor Ort. \nhttps://www.mauthausen-memorial.org/de \nAnmeldung ab sofort unter office@betriebsrat-lg.at möglich. \nBusfahrplan (Einstiegsstellen) & Programm: \n\n07:00 Uhr – Vorum Voitsberg\n07:30 Uhr – P&R Stainz\n07:50 Uhr – Bahnhof Lieboch\n08:05 Uhr – Murpark (Flixbus Haltestelle)\n11:45 Uhr – Mittagessen (Gasthaus Langenstein)\n13:30 Uhr – Begleiteter Rundgang in der KZ-Gedenkstätte\n16:00 Uhr – Rückfahrt…
URL:https://betriebsrat-lebensgross.at/event/betriebsausflug-nach-mauthausen-kz-gedenkstaette/
ATTACH;FMTTYPE=image/png:https://betriebsrat-lebensgross.at/wp-content/uploads/2025/02/Mountains-Eksplorers1-e1740489948414.png
END:VEVENT
BEGIN:VEVENT
DTSTART;TZID=Europe/Berlin:20251127T170000
DTEND;TZID=Europe/Berlin:20251127T210000
DTSTAMP:20260422T134937
CREATED:20250506T124644Z
LAST-MODIFIED:20250922T100633Z
UID:10409-1764262800-1764277200@betriebsrat-lebensgross.at
SUMMARY:Kinoabend "Noch lange kein Lipizzaner"
DESCRIPTION:Als Abschluß  für die Filmtrilogie unserer Kinoabende organisieren wir am 27.11.2025 um 18:00 Uhr (17:00 Uhr Einlass) im KIZ Royal-Kino wieder eine Filmvorführung und ein anschließendes Gespräch mit der Filmemacherin Olga Kosanović zum Film „Noch lange keine Lipizzaner“. \n„Wenn eine Katze in der Hofreitschule Junge wirft\, sind das noch lange keine Lipizzaner“\, lautet ein Kommentar in einer österreichischen Tageszeitung zu dem medial aufgegriffenen Einbürgerungsfall der Regisseurin Olga Kosanović. Abgrenzung schafft das Gefühl von Identität und Zusammenhalt: eines starken Wir-Gedankens. Was ist das für ein Gefühl und welchen gesellschaftlichen Strukturen liegt es zu Grunde? Ausgehend von einer persönlichen Erfahrung\, untersucht dieser Film die Emotionen schürende Frage des Dazugehörens. \nFür unsere Kolleg:innen und deren Begleitperson ist der Eintritt frei und es gibt Getränke und Popcorn. Wir freuen uns auf eure Anmeldungen unter office@betriebsrat-lg.at \nInfos zum Film
URL:https://betriebsrat-lebensgross.at/event/kinoabend-noch-lange-kein-lipizzaner/
ATTACH;FMTTYPE=image/png:https://betriebsrat-lebensgross.at/wp-content/uploads/2025/01/noun-film-5676860-1-e1736853083972.png
END:VEVENT
END:VCALENDAR