BEGIN:VCALENDAR
VERSION:2.0
PRODID:-// - ECPv6.15.20//NONSGML v1.0//EN
CALSCALE:GREGORIAN
METHOD:PUBLISH
X-ORIGINAL-URL:https://betriebsrat-lebensgross.at
X-WR-CALDESC:Veranstaltungen für 
REFRESH-INTERVAL;VALUE=DURATION:PT1H
X-Robots-Tag:noindex
X-PUBLISHED-TTL:PT1H
BEGIN:VTIMEZONE
TZID:Europe/Berlin
BEGIN:DAYLIGHT
TZOFFSETFROM:+0100
TZOFFSETTO:+0200
TZNAME:CEST
DTSTART:20240331T010000
END:DAYLIGHT
BEGIN:STANDARD
TZOFFSETFROM:+0200
TZOFFSETTO:+0100
TZNAME:CET
DTSTART:20241027T010000
END:STANDARD
BEGIN:DAYLIGHT
TZOFFSETFROM:+0100
TZOFFSETTO:+0200
TZNAME:CEST
DTSTART:20250330T010000
END:DAYLIGHT
BEGIN:STANDARD
TZOFFSETFROM:+0200
TZOFFSETTO:+0100
TZNAME:CET
DTSTART:20251026T010000
END:STANDARD
BEGIN:DAYLIGHT
TZOFFSETFROM:+0100
TZOFFSETTO:+0200
TZNAME:CEST
DTSTART:20260329T010000
END:DAYLIGHT
BEGIN:STANDARD
TZOFFSETFROM:+0200
TZOFFSETTO:+0100
TZNAME:CET
DTSTART:20261025T010000
END:STANDARD
END:VTIMEZONE
BEGIN:VEVENT
DTSTART;VALUE=DATE:20251203
DTEND;VALUE=DATE:20251204
DTSTAMP:20260422T121121
CREATED:20250225T133446Z
LAST-MODIFIED:20251113T100157Z
UID:10300-1764720000-1764806399@betriebsrat-lebensgross.at
SUMMARY:Ausflug zum Weihnachtsmarkt nach Ljubljana
DESCRIPTION:Der Weihnachtsmarkt im Stadtzentrum bietet eine zauberhafte Atmosphäre\, festliche Leckereien\, einzigartige Dekorationen und viele Möglichkeiten\, Kontakte zu knüpfen. Fahr mit uns und den Kolleg:innen nach Ljubljana und verbringe den Tag nach freier Lust und Laune! \nhttps://www.visitljubljana.com/de/besucher/besichtigungen/hervorgehoben/der-festliche-dezember-in-ljubljana/ \nAnmeldung unter office@betriebsrat-lg.at ab sofort möglich. \nBusfahrplan (Einstiegsstellen): \n\n07:00 Uhr – Vorum Voitsberg\n07:30 Uhr – P&R Stainz\n07:50 Uhr – Bahnhof Lieboch\n08:10 Uhr – Murpark (Flixbus Haltestelle)\n10:45 Uhr – Ankunft Weihnachtsmarkt Ljubljana (Zentrum)\n16:00 Uhr – Rückfahrt…
URL:https://betriebsrat-lebensgross.at/event/ausflug-zum-weihnachtsmarkt-nach-ljubljana/
ATTACH;FMTTYPE=image/png:https://betriebsrat-lebensgross.at/wp-content/uploads/2025/02/Weihnachtsmarkt-e1740491244248.png
END:VEVENT
BEGIN:VEVENT
DTSTART;TZID=Europe/Berlin:20251204T123000
DTEND;TZID=Europe/Berlin:20251204T150000
DTSTAMP:20260422T121121
CREATED:20251203T110637Z
LAST-MODIFIED:20251203T111859Z
UID:10799-1764851400-1764860400@betriebsrat-lebensgross.at
SUMMARY:Warnstreik!
DESCRIPTION:Aufgrund der stockenden SWÖ-Gehaltsverhandlungen wird am Standort TWS Reininghaus Q 6 von 12:30 – 15:00 die Arbeit niedergelegt.
URL:https://betriebsrat-lebensgross.at/event/warnstreik/
ATTACH;FMTTYPE=image/png:https://betriebsrat-lebensgross.at/wp-content/uploads/2025/12/noun-strikes-3188921-e1764759946406.png
END:VEVENT
BEGIN:VEVENT
DTSTART;TZID=Europe/Berlin:20251205T090000
DTEND;TZID=Europe/Berlin:20251205T110000
DTSTAMP:20260422T121121
CREATED:20251203T110800Z
LAST-MODIFIED:20251203T111823Z
UID:10803-1764925200-1764932400@betriebsrat-lebensgross.at
SUMMARY:Warnstreik!
DESCRIPTION:Aufgrund der stockenden SWÖ-Gehaltsverhandlungen wird am Standort Casalgasse  von 09:00 – 11:00 die Arbeit niedergelegt.
URL:https://betriebsrat-lebensgross.at/event/warnstreik-2/
ATTACH;FMTTYPE=image/png:https://betriebsrat-lebensgross.at/wp-content/uploads/2025/12/noun-strikes-3188921-e1764759946406.png
END:VEVENT
BEGIN:VEVENT
DTSTART;TZID=Europe/Berlin:20251208T100000
DTEND;TZID=Europe/Berlin:20251208T120000
DTSTAMP:20260422T121121
CREATED:20251203T111500Z
LAST-MODIFIED:20251203T111728Z
UID:10806-1765188000-1765195200@betriebsrat-lebensgross.at
SUMMARY:Protestmarsch!
DESCRIPTION:Ein organisierter Protestmarsch für bessere Regelungen in der Schulassistenz schreit nach unserer solidarischen Teilnahme! Wir gehen hin – du auch?
URL:https://betriebsrat-lebensgross.at/event/protestmarsch/
ATTACH;FMTTYPE=image/png:https://betriebsrat-lebensgross.at/wp-content/uploads/2025/12/noun-protest-7746330-e1764760378599.png
END:VEVENT
END:VCALENDAR